BEGIN:VCALENDAR
VERSION:2.0
PRODID:icalendar-ruby
CALSCALE:GREGORIAN
METHOD:PUBLISH
BEGIN:VEVENT
DTSTAMP:20260422T161016Z
UID:5-272359@firstbaptisthp.org
DTSTART:20261101T170000Z
DTEND:20261101T190000Z
CLASS:PUBLIC
CREATED:20260422T101745
DESCRIPTION:Sunday Worship
LAST-MODIFIED:20260422T101745
LOCATION:1701 S Pine Street\, Little Rock\, AR. 72204
SUMMARY:Sunday Worship
URL;VALUE=URI:https://www.firstbaptisthp.org/events/sunday-worship/2026-11-
 01
END:VEVENT
END:VCALENDAR
