BEGIN:VCALENDAR
VERSION:2.0
PRODID:icalendar-ruby
CALSCALE:GREGORIAN
METHOD:PUBLISH
BEGIN:VEVENT
DTSTAMP:20260422T122518Z
UID:5-272178@firstbaptisthp.org
DTSTART:20261018T160000Z
DTEND:20261018T180000Z
CLASS:PUBLIC
CREATED:20260422T072238
DESCRIPTION:Sunday Worship
LAST-MODIFIED:20260422T072238
LOCATION:1701 S Pine Street\, Little Rock\, AR. 72204
SUMMARY:Sunday Worship
URL;VALUE=URI:https://www.firstbaptisthp.org/events/sunday-worship/2026-10-
 18
END:VEVENT
END:VCALENDAR
