BEGIN:VCALENDAR
VERSION:2.0
PRODID:icalendar-ruby
CALSCALE:GREGORIAN
METHOD:PUBLISH
BEGIN:VEVENT
DTSTAMP:20260422T104131Z
UID:5-271995@firstbaptisthp.org
DTSTART:20261011T160000Z
DTEND:20261011T180000Z
CLASS:PUBLIC
CREATED:20260421T201616
DESCRIPTION:Sunday Worship
LAST-MODIFIED:20260421T201616
LOCATION:1701 S Pine Street\, Little Rock\, AR. 72204
SUMMARY:Sunday Worship
URL;VALUE=URI:https://www.firstbaptisthp.org/events/sunday-worship/2026-10-
 11
END:VEVENT
END:VCALENDAR
