BEGIN:VCALENDAR
VERSION:2.0
PRODID:icalendar-ruby
CALSCALE:GREGORIAN
METHOD:PUBLISH
BEGIN:VEVENT
DTSTAMP:20260424T091318Z
UID:5-274145@firstbaptisthp.org
DTSTART:20261004T160000Z
DTEND:20261004T180000Z
CLASS:PUBLIC
CREATED:20260423T215544
DESCRIPTION:Sunday Worship
LAST-MODIFIED:20260423T215544
LOCATION:1701 S Pine Street\, Little Rock\, AR. 72204
SUMMARY:Sunday Worship
URL;VALUE=URI:https://www.firstbaptisthp.org/events/sunday-worship/2026-10-
 04
END:VEVENT
END:VCALENDAR
