BEGIN:VCALENDAR
VERSION:2.0
PRODID:icalendar-ruby
CALSCALE:GREGORIAN
METHOD:PUBLISH
BEGIN:VEVENT
DTSTAMP:20260420T084922Z
UID:5-269774@firstbaptisthp.org
DTSTART:20260927T160000Z
DTEND:20260927T180000Z
CLASS:PUBLIC
CREATED:20260420T022406
DESCRIPTION:Sunday Worship
LAST-MODIFIED:20260420T022406
LOCATION:1701 S Pine Street\, Little Rock\, AR. 72204
SUMMARY:Sunday Worship
URL;VALUE=URI:https://www.firstbaptisthp.org/events/sunday-worship/2026-09-
 27
END:VEVENT
END:VCALENDAR
