BEGIN:VCALENDAR
VERSION:2.0
PRODID:icalendar-ruby
CALSCALE:GREGORIAN
METHOD:PUBLISH
BEGIN:VEVENT
DTSTAMP:20260420T064438Z
UID:5-269594@firstbaptisthp.org
DTSTART:20260920T160000Z
DTEND:20260920T180000Z
CLASS:PUBLIC
CREATED:20260419T224650
DESCRIPTION:Sunday Worship
LAST-MODIFIED:20260419T224650
LOCATION:1701 S Pine Street\, Little Rock\, AR. 72204
SUMMARY:Sunday Worship
URL;VALUE=URI:https://www.firstbaptisthp.org/events/sunday-worship/2026-09-
 20
END:VEVENT
END:VCALENDAR
