BEGIN:VCALENDAR
VERSION:2.0
PRODID:icalendar-ruby
CALSCALE:GREGORIAN
METHOD:PUBLISH
BEGIN:VEVENT
DTSTAMP:20260422T174454Z
UID:19-272427@firstbaptisthp.org
DTSTART:20261119T000000Z
DTEND:20261119T011500Z
CLASS:PUBLIC
CREATED:20260422T101745
DESCRIPTION:
LAST-MODIFIED:20260422T101745
LOCATION:First Baptist Church Highland Park
SUMMARY:Prayer Meeting and Bible Class
URL;VALUE=URI:https://www.firstbaptisthp.org/events/prayer-meeting-and-bibl
 e-class/2026-11-18
END:VEVENT
END:VCALENDAR
