BEGIN:VCALENDAR
VERSION:2.0
PRODID:icalendar-ruby
CALSCALE:GREGORIAN
METHOD:PUBLISH
BEGIN:VEVENT
DTSTAMP:20260422T140130Z
UID:19-272246@firstbaptisthp.org
DTSTART:20261105T000000Z
DTEND:20261105T011500Z
CLASS:PUBLIC
CREATED:20260422T072238
DESCRIPTION:
LAST-MODIFIED:20260422T072238
LOCATION:First Baptist Church Highland Park
SUMMARY:Prayer Meeting and Bible Class
URL;VALUE=URI:https://www.firstbaptisthp.org/events/prayer-meeting-and-bibl
 e-class/2026-11-04
END:VEVENT
END:VCALENDAR
