BEGIN:VCALENDAR
VERSION:2.0
PRODID:icalendar-ruby
CALSCALE:GREGORIAN
METHOD:PUBLISH
BEGIN:VEVENT
DTSTAMP:20260422T103749Z
UID:19-272062@firstbaptisthp.org
DTSTART:20261021T230000Z
DTEND:20261022T001500Z
CLASS:PUBLIC
CREATED:20260421T201616
DESCRIPTION:
LAST-MODIFIED:20260421T201616
LOCATION:First Baptist Church Highland Park
SUMMARY:Prayer Meeting and Bible Class
URL;VALUE=URI:https://www.firstbaptisthp.org/events/prayer-meeting-and-bibl
 e-class/2026-10-21
END:VEVENT
END:VCALENDAR
