BEGIN:VCALENDAR
VERSION:2.0
PRODID:icalendar-ruby
CALSCALE:GREGORIAN
METHOD:PUBLISH
BEGIN:VEVENT
DTSTAMP:20260420T051322Z
UID:19-269665@firstbaptisthp.org
DTSTART:20260923T230000Z
DTEND:20260924T001500Z
CLASS:PUBLIC
CREATED:20260419T224650
DESCRIPTION:
LAST-MODIFIED:20260419T224650
LOCATION:First Baptist Church Highland Park
SUMMARY:Prayer Meeting and Bible Class
URL;VALUE=URI:https://www.firstbaptisthp.org/events/prayer-meeting-and-bibl
 e-class/2026-09-23
END:VEVENT
END:VCALENDAR
