BEGIN:VCALENDAR
VERSION:2.0
PRODID:icalendar-ruby
CALSCALE:GREGORIAN
METHOD:PUBLISH
BEGIN:VEVENT
DTSTAMP:20260420T031331Z
UID:19-269485@firstbaptisthp.org
DTSTART:20260916T230000Z
DTEND:20260917T001500Z
CLASS:PUBLIC
CREATED:20260419T190917
DESCRIPTION:
LAST-MODIFIED:20260419T190917
LOCATION:First Baptist Church Highland Park
SUMMARY:Prayer Meeting and Bible Class
URL;VALUE=URI:https://www.firstbaptisthp.org/events/prayer-meeting-and-bibl
 e-class/2026-09-16
END:VEVENT
END:VCALENDAR
