BEGIN:VCALENDAR
VERSION:2.0
PRODID:icalendar-ruby
CALSCALE:GREGORIAN
METHOD:PUBLISH
BEGIN:VEVENT
DTSTAMP:20260422T121622Z
UID:51-271889@firstbaptisthp.org
DTSTART:20260422T233000Z
DTEND:20260423T010000Z
CLASS:PUBLIC
CREATED:20260421T195436
DESCRIPTION:
LAST-MODIFIED:20260421T195436
LOCATION:
SUMMARY:Holistic Stewardship Series - Part 2
URL;VALUE=URI:https://www.firstbaptisthp.org/events/holistic-stewardship-se
 ries-part-2/2026-04-22
ATTACH;FILENAME=All-of-Me-Belongs-ALL-to-Him-Bible-Study-Series-2.png;FMTTY
 PE=image/png:https://dq5pwpg1q8ru0.cloudfront.net/2026/04/22/00/54/35/e09a
 373f-f977-457e-8cfe-8ddf46f6d482/All-of-Me-Belongs-ALL-to-Him-Bible-Study-
 Series-2.png
END:VEVENT
END:VCALENDAR
