BEGIN:VCALENDAR
VERSION:2.0
PRODID:icalendar-ruby
CALSCALE:GREGORIAN
METHOD:PUBLISH
BEGIN:VEVENT
DTSTAMP:20260422T122616Z
UID:52-272071@firstbaptisthp.org
DTSTART:20260429T230000Z
DTEND:20260430T010000Z
CLASS:PUBLIC
CREATED:20260421T205728
DESCRIPTION:
LAST-MODIFIED:20260421T205728
LOCATION:
SUMMARY:Holistic Stewardship Series - Financial Literacy
URL;VALUE=URI:https://www.firstbaptisthp.org/events/holistic-stewardship-se
 ries-financial-literacy/2026-04-29
ATTACH;FILENAME=All-of-Me-Belongs-ALL-to-Him-Bible-Study-Series-6.png;FMTTY
 PE=image/png:https://dq5pwpg1q8ru0.cloudfront.net/2026/04/22/01/57/27/113e
 d4ba-373f-4473-9eca-62c53cc72199/All-of-Me-Belongs-ALL-to-Him-Bible-Study-
 Series-6.png
END:VEVENT
END:VCALENDAR
